BEGIN:VCALENDAR
METHOD:PUBLISH
VERSION:2.0
PRODID:-//Eventilla iCal Syndication//NONSGML Liana//EN
BEGIN:VEVENT
UID:00JdQ@eventilla.com
DTSTAMP:20230201T110000Z
DTSTART:20230201T110000Z
DTEND:20230419T163000Z
SUMMARY:Kansallismuseon dialogit
DESCRIPTION:Keitä me olemme\, mistä me tulemme – minne olemme menossa? Mitä teit aamulla\, missä kasvoit\, millainen kokemus on ollut elämässäsi käänteentekevä? Tule mukaan keskustelemaan siitä\, mikä elämässä on tärkeää ja vaikuttamaan samalla siihen\, millainen Kansallismuseo meillä on vuonna 2027.\nKansallismuseo järjestää keväällä 2023 dialogeja eli pienellä ryhmällä toteutettavia keskustelutilaisuuksia\, joissa ihmiset kohtaavat ja lisäävät keskustelemalla ymmärrystä kulttuurista\, identiteeteistä ja historiasta eri näkökulmista. Dialogit tarjoavat mahdollisuuden tuoda omia näkökulmia esille ja tulla kuulluksi.\nDialogit ovat osa Kansallismuseon toimintamallin uudistustyötä ja niiden tavoitteena on vahvistaa rakentavaa keskustelukulttuuria. Dialogien avulla saamme museossa paremman ymmärryksen yleisöjen moninaisista tarpeista. Tällä ymmärryksellä rakennamme tulevaisuuden Kansallismuseota.\nKansallismuseon uudisosan\, historiallisen päärakennuksen ja pihapuiston muodostama museokokonaisuus avautuu yleisölle vuonna 2027.\nLuottamuksellisesti ja turvallisesti\nDialogien pohjalla on Sitran kehittämä Erätauko-keskustelumenetelmä. Dialogi antaa osallistujille kuulluksitulemisen ja osallisuuden kokemuksen ja tarjoaa tilaa tuoda omia näkökulmia esille. Dialogi syntyy hetkessä; siihen ei tarvitse valmistautua ennakkoon. Keskustelu käydään omien kokemusten pohjalta. Keskustelut ovat luottamuksellisia ja niissä pätevät turvallisemman tilan periaatteet. Tarkoituksena ei ole päästä ratkaisuihin tai yksimielisyyteen.\nKeskustelut nauhoitetaan litterointia varten. Kaikki henkilöön viittaava poistetaan keskustelutallenteesta\, ja osallistujilla on mahdollisuus lukea keskustelu läpi ennen kuin käytämme sitä kehittämistyössämme.\nDialogit järjestetään Kansallismuseon 2. kerroksen Ateljee-tilassa (Mannerheimintie 34\, 00100 Helsinki).\nKe 19.4. klo 13–15 ja klo 17.30–19.30 (TÄYTTYMÄSSÄ\, VIELÄ TILAA)\nPaikan päällä on kahvitarjoilu.\nLähetämme keskustelijoille tarkemmat saapumisohjeet hyvissä ajoin ennen keskustelua.\nLisätietoja: museopeda@kansallismuseo.fi\nIlmoittautuminen on sitova.\nTervetuloa keskustelemaan!
LOCATION:Kansallismuseo\, Mannerheimintie 34\, 00100\, Helsinki
URL:http://ssl.eventilla.com/event/00JdQ
END:VEVENT
END:VCALENDAR
