BEGIN:VCALENDAR
METHOD:PUBLISH
VERSION:2.0
PRODID:-//Eventilla iCal Syndication//NONSGML Liana//EN
BEGIN:VEVENT
UID:0e0WV@eventilla.com
DTSTAMP:20260420T100000Z
DTSTART:20260420T100000Z
DTEND:20260420T130000Z
SUMMARY:Staying ahead – data ja tekoäly
DESCRIPTION:Tervetuloa Staying ahead -iltapäivään Kuopioon!\nTieto ja data ovat tämän ajan tärkeintä pääomaa. Ne mahdollistavat paremmat päätökset\, luovemmat strategiat\, hallitummat riskit ja aidon kilpailuedun\, mutta vain\, jos niitä osataan johtaa oikein.Staying ahead on kohtaamispaikka Kuopion alueen yrityksille ja päättäjille\, jotka haluavat ymmärtää:\n\nMitä strateginen tiedolla johtaminen tarkoittaa käytännössä.\nMiten dataa ja tekoälyä hyödynnetään turvallisesti ja fiksusti.\nMiten rakennetaan ja pidetään etumatkaa kilpailijoihin.\n\nOhjelmassa\nLuvassa on ajankohtaisia puheenvuoroja tiedolla johtamisesta ja tekoälystä sekä käytännönläheistä keskustelua ja sparrausta arjen päätöksenteon tueksi. Iltapäivä tarjoaa erinomaisen mahdollisuuden verkostoitua samanhenkisten kehittäjien kanssa\, jakaa kokemuksia ja rakentaa merkityksellisiä kontakteja.\nKuulet kiinnostavia puheenvuoroja\, kuten Tekoäly strategisen johtamisen työvälineenä / Liisa Tuhkanen Rastor-instituuttiGet more capacity\, revenue and margins out of your existing budgets with AI / Patrick Halford CEO Gaoithe Advisory\nTilaisuuden juontavat Anu Kuhmonen\, Figureout oy ja Aki Karkulahti\, Call To Action oy.\nTule hakemaan uusia näkökulmia\, konkreettisia eväitä parempaan päätöksentekoon ja kasvuun – rennossa tunnelmassa\, ja kahvitarjoilun kera.\nIlmoitathan tulostasi viimeistään to 16.4. mennessä. Tilaisuus on maksuton.\nAika: ma 20.4.2026 klo 13-16. Paikka: Rastor-instituutin toimisto\, Microkatu 1\, M-rakennus\, Kuopio.\nLämpimästi tervetuloa!\nLisätietoja: Kimmo Kauhanen\, kimmo.kauhanen@rastorinst.fi\n 
LOCATION:Rastor-instituutin toimisto\, Microkatu 1, M-rakennus\, 70120\,
 Kuopio\, Suomi
URL:http://ssl.eventilla.com/staying-ahead_kuopio
END:VEVENT
END:VCALENDAR
