BEGIN:VCALENDAR
METHOD:PUBLISH
VERSION:2.0
PRODID:-//Eventilla iCal Syndication//NONSGML Liana//EN
BEGIN:VEVENT
UID:0ggLV@eventilla.com
DTSTAMP:20241116T110000Z
DTSTART:20241116T110000Z
DTEND:20241116T130000Z
SUMMARY:Sateenkaareva muistelutyöpaja: Matkustaminen ja kohtaamiset
DESCRIPTION:Millaista on ollut matkustaa sateenkaari-ihmisenä Pohjoismaissa tai muualla? Millaisia ajatuksia\, tunnelmia tai kohtaamisia matkoihin on sisältynyt eri aikoina? Mitä syitä matkustamiselle tai jopa pois Suomesta muuttamiselle on ollut?\nTule mukaan sukupolvienväliseen muistelutyöpajaan! Kerätään yhdessä matkustamiseen liittyviä sateenkaarevia muistoja\, ajatuksia ja tarinoita. Ohjatussa työpajassa kerrotaan aluksi lyhyesti\, miten ja missä sateenkaarihistoriaa tallennetaan Suomessa\, jonka jälkeen muistellaan ja kirjoitetaan ohjatusti aiheesta. Työpajan pohjalta syntyneet tekstit voi halutessaan antaa Työväen Arkistoon arkistoitavaksi\, mutta tämä ei ole pakollista.\nMukaan voi ottaa myös aiheeseen liittyviä valokuvia\, joita voi käyttää muistelussa ja myös halutessaan tallentaa Työväen Arkistoon.\nPajaan voi tulla kirjoittamaan myös vain itselleen\, eikä tekstejä ole pakko jakaa kenenkään kanssa. Tarjoamme erilaisia tapoja kirjoittaa muistoja\, ja voimme myös auttaa kirjoittamisessa. Voit myös lähteä pajasta itsenäisesti milloin haluat.\nTyöpajaa ohjaavat Kaura Raudaskoski ja Niklas Koskinen Sateenkaarihistorian ystävät ry:stä.\nTyöpaja pidetään Sukupolvien välinen kohtaamispaikka -tapahtumassa. Tilaisuuden aluksi nähdään Crush[ing]-esitys. \nTapahtuma on osa Sateenkaarihistoriakuukauden ja M/S Baltic Queers -näyttelyn ohjelmaa.
LOCATION:Helsingin kaupunginmuseo\, Aleksanterinkatu 16\, 00170\,
 Helsinki\, Suomi
URL:http://ssl.eventilla.com/sateenkaarevamuistelutyopaja
END:VEVENT
END:VCALENDAR
