BEGIN:VCALENDAR
METHOD:PUBLISH
VERSION:2.0
PRODID:-//Eventilla iCal Syndication//NONSGML Liana//EN
BEGIN:VEVENT
UID:0gy3D@eventilla.com
DTSTAMP:20260615T060000Z
DTSTART:20260615T060000Z
DTEND:20260618T140000Z
SUMMARY:Musiikinhahmotuksen kurssi\, koe musiikki uudella tavalla
LOCATION:STEP-koulutus\, Järvenpääntie 640, 04400 Järvenpää\,
 Järvenpää
URL:http://ssl.eventilla.com/event/0gy3D
END:VEVENT
END:VCALENDAR
