BEGIN:VCALENDAR
METHOD:PUBLISH
VERSION:2.0
PRODID:-//Eventilla iCal Syndication//NONSGML Liana//EN
BEGIN:VEVENT
UID:1EW6e@eventilla.com
DTSTAMP:20260121T121500Z
DTSTART:20260121T121500Z
DTEND:20260506T120000Z
SUMMARY:Nuorten ohjattu nyrkkeilyharjoittelu
DESCRIPTION:Nuorten ohjattu nyrkkeilyharjoittelu keskiviikkoisin klo 14.15-15 tatamisalissa.\nReipasta menoa\, tekniikkaa ja kuntoa – tule mukaan treenaamaan kuin mestari!Nuorten nyrkkeilyharjoittelu on suunnattu yläkouluikäisille ja toisen asteen opiskelijoille\, jotka haluavat tutustua nyrkkeilyn perusteisiin tai kehittää osaamistaan ohjatusti. Harjoituksissa yhdistyvät liikunnan ilo\, kurinalaisuus ja itsensä haastaminen – turvallisessa ja kannustavassa ilmapiirissä.
LOCATION:Maijamäen koulun tatamisali\, Venevalkamantie 2\, 21100\,
 Naantali\, Suomi
URL:http://ssl.eventilla.com/event/1EW6e
END:VEVENT
END:VCALENDAR
