BEGIN:VCALENDAR
METHOD:PUBLISH
VERSION:2.0
PRODID:-//Eventilla iCal Syndication//NONSGML Liana//EN
BEGIN:VEVENT
UID:1Ebye@eventilla.com
DTSTAMP:20260605T070000Z
DTSTART:20260605T070000Z
DTEND:20260605T100000Z
SUMMARY:Tanssityöpaja
DESCRIPTION:Tanssityöpaja yli 8-vuotiaille perjantaina 5.6. klo 10–13 Maijamäen koulun tatamisalissa. Tanssityöpajassa pääset tutustumaan disco-\, show- ja TikTok-tansseihin. Tanssit ovat iloisia\, helppoja sekä vauhdikkaita\, jotka sopivat kaikille. Tärkeintä on tanssimisen hauskuus ja liikkumisen ilo. \nOhjaajana Mila Ahovaara. Hinta 10 €\, ilmoittautuminen on sitova. Maksu palautetaan vain sairastapauksissa. Päivä toteutuu\, mikäli vähintään 5 osallistujaa.
LOCATION:Tatamisali\, Venevalkamantie 2\, 21100\, Naantali\, Suomi
URL:http://ssl.eventilla.com/tanssityopajakesa2026
END:VEVENT
END:VCALENDAR
