BEGIN:VCALENDAR
METHOD:PUBLISH
VERSION:2.0
PRODID:-//Eventilla iCal Syndication//NONSGML Liana//EN
BEGIN:VEVENT
UID:1NQM1@eventilla.com
DTSTAMP:20230329T070000Z
DTSTART:20230329T070000Z
DTEND:20230329T080000Z
SUMMARY:Hakuinfo: Avustukset Euroopan neuvoston kulttuurireittitoimintaa vahvistaviin yhteistyö- ja kehittämishankkeisiin
DESCRIPTION:Museovirasto jakaa valtionavustusta Euroopan neuvoston kulttuurireittitoimintaa vahvistaviin yhteistyö- ja kehittämishankkeisiin. Hakuaika on 1.3.2023-15.5.2023 (klo 15).\nMuseovirasto järjestää maksuttoman online-hakuinfon 29.3.2023 klo 10-11. \nHakuinfossa käydään läpi Euroopan neuvoston kulttuurireittitoimintaan liittyvän valtionavustushaun ohjeet sekä hakulomakkeen kentät. Ilmoittaudu hakuinfoon alla olevasta painikkeesta viimeistään 27.3.2023. Hakuinfo on tarkoitettu kaikille avustuksen hakemisesta kiinnostuneille. Avustusta voi hakea kunta\, kuntayhtymä\, yhdistys\, säätiö\, osakeyhtiö tai muu oikeustoimikelpoinen yhteisö. Avustusta ei myönnetä yksityishenkilöille. \nVoit lähettää hakuun liittyviä kysymyksiä etukäteen sähköpostilla osoitteeseen anni.alho@museovirasto.fi. Lähetä kysymyksesi ennen ilmoittautumisajan päättymistä 27.3.2023. Saat vastaukset etukäteen lähetettyihin kysymyksiin hakuinfossa.\nHakuohjeeseen voit tutustua Museoviraston verkkosivuilla.\nKuva: Volker Von Bonin\, Historian kuvakokoelma\, Museovirasto
LOCATION:Teams
URL:http://ssl.eventilla.com/en_kulttuurireittiavustus_hakuinfo
END:VEVENT
END:VCALENDAR
