BEGIN:VCALENDAR
METHOD:PUBLISH
VERSION:2.0
PRODID:-//Eventilla iCal Syndication//NONSGML Liana//EN
BEGIN:VEVENT
UID:1ZNPE@eventilla.com
DTSTAMP:20260731T133000Z
DTSTART:20260731T133000Z
DTEND:20260802T180000Z
SUMMARY:Immersion Larp Festival 2026
DESCRIPTION:At Immersion Larp Festival\, you get to play three short larps. A larp is an improvised drama with no audience and no script. Usually every participant gets a character that they portray. Please treat the larps at Immersion as opportunities to join a co-created experience. We want you to think like an active participant\, rather than a customer.\nWe will send you an email on your preferences on which larps you wish to play about two weeks before the festival. Based on the answers\, we will assign participants to larps. You can find more information about the larps on our webpage. \nAll tickets include threelarps and three meals. 
LOCATION:Tehdas Teatteri\, Itäinen rantakatu 64b\, 20810\, Turku\,
 Finland
URL:http://ssl.eventilla.com/immersion
END:VEVENT
END:VCALENDAR
