BEGIN:VCALENDAR
METHOD:PUBLISH
VERSION:2.0
PRODID:-//Eventilla iCal Syndication//NONSGML Liana//EN
BEGIN:VEVENT
UID:2k52B@eventilla.com
DTSTAMP:20240520T070000Z
DTSTART:20240520T070000Z
DTEND:20240520T090000Z
SUMMARY:Euroopan kulttuuriperintötunnus - luomassa yhteistä tarinaa
DESCRIPTION:Webinaari ma 20.5.2024 klo 10.00-12.00\nEuroopan kulttuuriperintötunnus – luomassa yhteistä tarinaa\nSuomalaisille kulttuuriperintötoimijoille tarjoutuu jälleen mahdollisuus hakea Euroopan kulttuuriperintötunnusta. Kansallinen esivalinta järjestetään kolmatta kertaa. Suomen ensimmäinen kulttuuriperintötunnus myönnettiin Jyväskylän yliopiston Seminaarinmäen kampukselle ja tasa-arvoiselle koulutukselle vuonna 2022. Kalevala elävänä eeposperinteenä sai tunnuksen vuonna 2024.\nEuroopan kulttuuriperintötunnus (European Heritage Label)  on Euroopan unionin alainen kulttuuriperintötoimi. Euroopan komissio on myöntänyt kulttuuriperintötunnuksia vuodesta 2013 alkaen yhteensä 67 kohteelle 20 eri maassa. \nToukokuussa järjestettävä webinaari tutustuttaa kiinnostuneet tahot tunnukseen\, sen hakemiseen\, kriteereihin ja hanketoimintaan. Tilaisuudessa kuullaan käytännön kokemuksia aiemmista hakukierroksista ja tutustutaan jo läpimenneisiin hakemuksiin. Esivalinta on avoinna 12.6.2024 asti. \nSuomalaisille toimijoille avautuu tunnuksen kautta kansainvälistä näkyvyyttä\, mahdollisuuksia verkostoitua ja osallistua keskusteluun eurooppalaisesta kulttuuriperinnöstä. Kohteet tarjoavat mahdollisuuksia oppia yhteisestä monimuotoisesta kulttuuriperinnöstämme sekä historiasta ja arvoista. Olemalla mukana voimme vaikuttaa. Eurooppa alkaa täältä!\nWebinaarin järjestää Museovirasto\, joka myös vastaa tunnuksen kansallisesta koordinoinnista. Tilaisuudesta tehdään tallenne.\nIlmoittautumiset 15.5 mennessä alla olevasta painikkeesta. Lähetämme osallistumislinkin (Teams) ilmoittautuneille.  \nOHJELMA\n10:00 Tervetuloa!\n10:05 Euroopan kulttuuriperintötunnus – lyhyt oppimäärä ja tukea hakemiseen\, Leena Marsio\, Museovirasto\n10:20 Esittelyssä Euroopan kulttuuriperintötunnuksen saaneita kohteita\, Tuuli Lähdesmäki\, Jyväskylän yliopisto\n10.40 Kalevala ja elävä eeposperintö eurooppalaisesta näkökulmasta\, Niina Hämäläinen\, Kalevalaseura\n11.00 Seminaarinmäki ja tasa-arvoinen koulutus - oppeja ensimmäiseltä hakukierrokselta\, Pirjo Vuorinen\, Jyväskylän yliopisto\, Avoimen tiedon keskus\n11:20 Keskustelua ja kysymyksiä\n11:45 Webinaari päättyy\nLisätiedot: www.kulttuuriperintotunnus.fi \n 
LOCATION:Verkkotapahtuma
URL:http://ssl.eventilla.com/ehl2024
END:VEVENT
END:VCALENDAR
