BEGIN:VCALENDAR
METHOD:PUBLISH
VERSION:2.0
PRODID:-//Eventilla iCal Syndication//NONSGML Liana//EN
BEGIN:VEVENT
UID:2kELp@eventilla.com
DTSTAMP:20240406T143000Z
DTSTART:20240406T143000Z
DTEND:20240602T151500Z
SUMMARY:Vesiralli 1 (lauantai-ryhmä)
DESCRIPTION:Vesiralli 1 (lauantai-ryhmä)\nTavoite\nParantaa uimataitoa. Hauskuus. Uintiekniikoiden oppiminen. \nTaitovaatimus\nIkäsuositus: 7-vuotta. Tekniikka-uimakoulu käytynä. Vähintään 25 m sujuva uimataito. \nHarjoitteet\nEri uintilajien perustekniikat. Taitouintiliikkeitä. Vesipallon perusteet. Sukeltamista. Hyppyjä.\nOpetusallas: Iso allas (syvyys: 120cm - 230 cm)Ryhmäkoko: 9 - 16 lasta\nHuomioitavaa\nSaat ilmoittautumisen yhteydessä sähköpostin vahvistuksena\, joka takaa että ilmoittautumisesi on tullut perille.\n 
LOCATION:Zimmari\, Pekurintie 1\, 90450\, Kempele
URL:http://ssl.eventilla.com/kempy-vr1-1730-324-la
END:VEVENT
END:VCALENDAR
