BEGIN:VCALENDAR
METHOD:PUBLISH
VERSION:2.0
PRODID:-//Eventilla iCal Syndication//NONSGML Liana//EN
BEGIN:VEVENT
UID:2kLOo@eventilla.com
DTSTAMP:20221010T100000Z
DTSTART:20221010T100000Z
DTEND:20221010T130000Z
SUMMARY:Asiantuntijatodistelu kiinteistöriidassa
DESCRIPTION:Koulutuksessa syvennetään kiinteistöriitoihin ja niihin liittyvien todistelukysymysten ymmärtämistä. Koulutus antaa valmiuksia hyödyntää todistelu-uudistuksen yhteydessä täysin uudistettua asiantuntijatodistelua kiinteistöriitaoikeudenkäynneissä sekä laajentaa osallistujien tietämystä kiinteistöjen virheisiin liittyvästä juridiikasta. \n10.10.2022 klo 13.00–16.00\,Helsinki\, myös etänä\nKouluttajina toimivat professori Mia Hoffrén\, Itä-Suomen yliopisto ja professori Mikko Vuorenpää\, Lapin yliopisto\nOhjelma\nAsiantuntijatodistelun ja muun todistelun merkitys virheriidassa- virhetunnusmerkistön täyttymisen kannalta relevantit seikat ja niitä koskeva todistelu- virheen seuraamusten kannalta relevantit seikat ja niitä koskeva todistelu- virheen korjaamiseen liittyvien epävarmuustekijöiden merkitys \nRajanvetokriteeri asiantuntijatodistelun ja todistelun välillä- lausunnon sisältö- kuultavan vaihdettavuus- oikeus työkorvaukseen- havaintojen tekemisajankohta\nPrekludoituuko asiantuntijalausunto tai sen teema?\nMyyjän todistelumahdollisuuksien turvaaminen- reklamaatiovelvollisuudesta myyjän suojana - myyjäpuolen asiantuntijan oikeus tutustua lausuntokohteeseen\nMitkä ovat oikeudenkäyntikuluja ja mitkä vahingonkorvauksena korvattavia asian selvittelykustannuksia? - lisätietona kysymys valtion velvollisuudesta korvata oikeusapua saaneen asiantuntijan työkorvauksia\nHinta\n190 € + alv 24 % osallistuminen käräjäoikeuden tiloissa\, sisältää kahvin ja kahvileivän185 € + alv 24 % etäosallistuminen\, osallistumislinkki lähetetään edellisenä arkipäivänä\nIlmoittautuminen\nKurssipaikalla osallistuville viimeistään 30.9.2022 Etäyhteydellä osallistuville viimeistään 6.10.2022\nIlmoittautuminen tämän linkin kautta.Koulutus järjestetään\, mikäli osallistujia on riittävästi. Mahdollisesta peruuntumisesta ilmoitetaan erikseen. Koulutuksen peruuntuessa ilmoittautumismaksu palautetaan.\nKouluttautumisvelvoite\n3 tuntia \nJärjestäjä\nTurun yliopiston oikeustieteellinen tiedekunta\, Itä-Suomen ja Lapin yliopistot sekä Suomen Asianajajaliitto \nTurun yliopiston ohjeet koronavirustilanteessa\nMuilla paikkakunnilla noudatetaan kyseisen alueen ja järjestävän organisaation koronaohjeita.\nLisätietoja: Turun yliopiston oikeustieteellinen tiedekunta oik-taydennyskoulutus@utu.fi.
LOCATION:Helsingin käräjäoikeus\, Porkkalankatu 13\, 00180\, Helsinki\,
 Finland
URL:http://ssl.eventilla.com/event/2kLOo
END:VEVENT
END:VCALENDAR
