BEGIN:VCALENDAR
METHOD:PUBLISH
VERSION:2.0
PRODID:-//Eventilla iCal Syndication//NONSGML Liana//EN
BEGIN:VEVENT
UID:2kQ55@eventilla.com
DTSTAMP:20230205T064500Z
DTSTART:20230205T064500Z
DTEND:20230205T120000Z
SUMMARY:Tiirismaan Laturetki (bussikuljetus)
DESCRIPTION:Tiirismaan laturetki 5.2.2023\nLähdemme viime vuoden tapaan Etelä-Suomen yhteen hienoimmista ja lumivarmimpaan hiihtokohteeseen Hollolaan.\nOlkaa mielellään paikalla kello 8.45 Mikonkadun tilausajo pysäkillä ja lähdemme takaisin päin kello 14.00\nBussin pysäköintipaikalta pääsee suoraan Tiirismaan hienoille laduille\, merkatut reitit vaihtelevat 6-25 kilometriin ja niiden varrella on huoltopisteitä\, joista saa ostettua juotavaa ja evästä. \nTapahtumassa voit hiihtää juuri omaan tahtiin ja osallistua arvontaan Tiiristuvalla.\nMuistathan ottaa omat sukset mukaan!\nHollolassa on hyvin lunta\, joten retki toteutuu sunnuntaina.\nTervetuloa!
LOCATION:Mikonkadun tilausajo pysäkki\, Rautatientori\, 00101\,
 Helsinki\, Suomi
URL:http://ssl.eventilla.com/event/2kQ55
END:VEVENT
END:VCALENDAR
