BEGIN:VCALENDAR
METHOD:PUBLISH
VERSION:2.0
PRODID:-//Eventilla iCal Syndication//NONSGML Liana//EN
BEGIN:VEVENT
UID:2w9eg@eventilla.com
DTSTAMP:20260605T150000Z
DTSTART:20260605T150000Z
DTEND:20260606T120000Z
SUMMARY:Kuljetusyrittäjäpäivien messut
DESCRIPTION:Kohtaa kuljetusalan päättäjät kasvotusten SKALin juhlavuoden päätapahtumassa5.–6.6.2026 Seinäjoki Areenalla\nSKAL 90 -juhlavuosi tuo tavallista enemmän kävijöitä ja näkyvyyttä \nOdotamme kesäkuun Kuljetusyrittäjäpäiville Seinäjoelle noin 400 kuljetusalan yrittäjää ja päättäjää. Tapahtuma saa tavallista enemmän some- ja mediahuomioita.\nMiksi mukaan Kuljetusyrittäjäpäiville?\nKuljetusyrittäjäpäivät tarjoaa yrityksille suoran väylän kohdata kuljetusyrittäjät ja alan päättäjät kasvotusten. Valmiit osastopaketit tekevät osallistumisesta vaivatonta. Kuljetusyrittäjäpäiviltä löydät loistavat puitteet myös kaluston esittelyyn messuhallissa.\n\nTavoitat oikeat päättäjät kasvotustenKuljetusyrittäjät tulevat messualueelle tutustumaan ratkaisuihin\, keskustelemaan ja tekemään päätöksiä.\nMessualue on rakennettu kohtaamisia vartenAikataulu\, oheisohjelma ja tilaratkaisut varmistavat\, että kävijät viihtyvät messualueella ja kiertävät osastoilla.\nErotut kilpailijoistaMonipuoliset mahdollisuudet esitellä tuotteita\, palveluita sekä kalustoa käytännössä.\nSaat näkyvyyttä SKAL 90 -juhlavuoden päätapahtumassa\n\nMitä messuilla tapahtuu?\nPerjantai 5.6. Messu- ja verkostoitumisilta\n\nKoko ala saman katon alla\nIllan juontaa Diilistä tuttu Arttu Seppälä\nMessupeli ohjaa kävijöitä kiertämään osastoja\nRuokailua ja rentoja kohtaamisia\n\nLauantai 6.6. Juhlaseminaari ja messupäivä\n\nAamukahvit messualueella\nJuhlaseminaari tuo yleisön messualueelle\nLounas ja kohtaamiset hallissa\nMessut avoinna klo 15 saakka\n\nTutustu tarkempaan aikatauluun\nHyödynnä koko tila – myös kalustolle\nNäyttelyssä on tarjolla kahta eri kokoista osastoa\, pystypöytäpaikka ja autopaikka. Kaikista näistä vaihtoehdoista voit lukea lisää Hinnat-välilehdeltä.\nNäyttelypisteet varattavissa 4.5.2026 saakka. Myös lisäedustajien ilmoittaminen päättyy 4.5.Näyttelyosaston jo varanneet yritykset löydät täältä
LOCATION:Seinäjoki Areena\, Kirkkokatu 23\, 60220\, Seinäjoki
URL:http://tilaisuudet.skal.fi/event/2w9eg
END:VEVENT
END:VCALENDAR
