BEGIN:VCALENDAR
METHOD:PUBLISH
VERSION:2.0
PRODID:-//Eventilla iCal Syndication//NONSGML Liana//EN
BEGIN:VEVENT
UID:2wKW5@eventilla.com
DTSTAMP:20260421T150000Z
DTSTART:20260421T150000Z
DTEND:20260421T170000Z
SUMMARY:Kajaanin veroilta: Sijoittajan verokysymyksiä
DESCRIPTION:Sijoittajan verokysymyksiä\n\n\n\n\nVeronmaksajain Keskusliiton Kainuun paikallisyhdistys järjestää neuvontatilaisuuden sijoittajan verokysymyksistä.\nKäsiteltäviä aiheita ovat muun muassa \n\nluovutusvoitot\nvuokratulot\nosingot\n\nAiheesta alustaa verojuristi Juha-Pekka Huovinen Veronmaksajista.\nTilaisuus alkaa kahvitarjoilulla klo 17.30. Luento alkaa klo 18.\nIlmoittautuminen\nIlmoittaudu veroiltaan etukäteen alle avautuvalla lomakkeella tai soittamalla Veronmaksajien jäsenpalveluun p. 03010 5511 (pvm/mpm).\nTilaisuus on maksuton. Osallistuminen ei edellytä jäsenyyttä. Mukaan mahtuu 70 kuulijaa.\nHUOM! Tilaisuuden ajan pysäköinti paikoitusalueella on maksutonta.\n\n\n\n \n\n\n\n\n 
LOCATION:Kajaanin teknologiakeskus, auditorio, Linnankatu 6, Kajaani
URL:http://ssl.eventilla.com/event/2wKW5
END:VEVENT
END:VCALENDAR
