BEGIN:VCALENDAR
METHOD:PUBLISH
VERSION:2.0
PRODID:-//Eventilla iCal Syndication//NONSGML Liana//EN
BEGIN:VEVENT
UID:2wy3g@eventilla.com
DTSTAMP:20260625T060000Z
DTSTART:20260625T060000Z
DTEND:20260625T130000Z
SUMMARY:Ratatyöturvallisuuspätevyys (Turva) - Webinaari
DESCRIPTION:Ratatyöturvallisuus (Turva) -koulutuksen tavoitteena on antaa oppilaalle riittävät perustiedot rautatiejärjestelmästä ja siihen liittyvistä ohjeistuksista sekä turvallisesta liikkumisesta ja työskentelystä rautatiealueella.\nRatatyöturvallisuuspätevyyttä edellytetään kaikissa Väylän tilaamissa tai hyväksymissä ratatöissä\, liikuttaessa työtehtävissä rautatiealueella tai tehtäessä rautatiejärjestelmän turvallisuuteen tai liikenteenohjaukseen liittyviin laitteisiin ja rakenteisiin kohdistuvia töitä. Koulutukseen osallistuvalta ei edellytetä pohjakoulutusta eikä aiempaa työkokemusta.\nKaikista Turva -koulutuksista on mahdollista saada kuljettajan jatkokoulutuksen ammattipätevyysmerkintä (vain 1 merkintä/vrk).\nRatatyöturvallisuuspätevyys on voimassa viisi (5) vuotta myöntämispäivästä.\nKyseessä on etätoteutus. \nKoulutus toteutetaan SATkoulutus verkko-oppimisympäristössä. Saat tarkemmat ohjeet liittymiseen ilmoittautumisen jälkeen.
LOCATION:Webinaari
URL:http://ssl.eventilla.com/event/2wy3g
END:VEVENT
END:VCALENDAR
