BEGIN:VCALENDAR
METHOD:PUBLISH
VERSION:2.0
PRODID:-//Eventilla iCal Syndication//NONSGML Liana//EN
BEGIN:VEVENT
UID:3QXR2@eventilla.com
DTSTAMP:20260518T053000Z
DTSTART:20260518T053000Z
DTEND:20260518T130000Z
SUMMARY:Kemikaalien käytönvalvojan täydennyskoulutus
DESCRIPTION:Kemikaalien käytönvalvojan täydennyskoulutus\nVaarallisten kemikaalien laajamittaista teollista käsittelyä ja varastointia harjoittavissa yksiköissä on oltava yksi tai useampi käytönvalvoja (vastuuhenkilö). Vastuuhenkilö huolehtii siitä\, että tuotantolaitoksessa toimitaan vaarallisia kemikaaleja koskevien säännösten ja lupaehtojen sekä laadittujen toimintaperiaatteiden ja suunnitelmien mukaisesti. Vastuuhenkilön tulee tuntea tuotantolaitoksen toiminta\, sitä koskevat säädökset sekä turvallisen  toiminnan edellytykset.\nKoulutus on tarkoitettu henkilöille\, jotka ovat toimineet kemikaalien käytönvalvojan tehtävässä ja haluavat päivittää lainsäädäntötietoutta sekä täydentää osaamistaan kemikaalien käytönvalvojan tehtävässä.  \nKurssin aikana käsitellään tärkeimmät lainsäädäntömuutokset sekä tehdään käytännön harjoituksia.\nKoulutuksen tavoite:\nTäydentää ja päivittää kemikaalien käytönvalvojien tietoja vaarallisten kemikaalien laajamittaisesti teollisesta käsittelystä ja varastoinnista\, vastuista ja velvollisuuksista sekä tuoda työkaluja käytännön käytönvalvojan työhön. \nKohderyhmä:                                                                              \nKemikaalien käytönvalvojat\, jotka haluavat päivittää lainsäädäntötietouttaan sekä saada käytännön työkaluja käytönvalvojan tehtävässä toimimiseen. 
LOCATION:Skyline Airport Hotel\, Elannontie 9\, 01510\, Vantaa\, Suomi
URL:http://ssl.eventilla.com/event/3QXR2
END:VEVENT
END:VCALENDAR
