BEGIN:VCALENDAR
METHOD:PUBLISH
VERSION:2.0
PRODID:-//Eventilla iCal Syndication//NONSGML Liana//EN
BEGIN:VEVENT
UID:3zzv5@eventilla.com
DTSTAMP:20261019T100000Z
DTSTART:20261019T100000Z
DTEND:20261019T120000Z
SUMMARY:Alkusammutuskorttikoulutus AS1
DESCRIPTION:Alkusammutus on kansalaistaito\, jota voi tarvita missä tahansa: kotona\, töissä\, liikenteessä tai mökillä. Alkusammutuskoulutuksessa saat taidot palonalkujen sammuttamiseen. Tehokkaan alkusammutuksen avulla voi ehkäistä tai vähentää tulipalon aiheuttamia vahinkoja merkittävästi. Kahden tunnin alkusammutuskoulutus koostuu teoriaosuudesta ja käytännön sammutusharjoituksista.\nAlkusammutuskoulutus (2h) toteutetaan kansallisen alkusammutuskonseptin mukaisesti. Koulutukseen osallistunut saa Suomen Pelastusalan Keskusjärjestön (SPEK) myöntämän alkusammutuskortin (AS1-kortti)\, joka on voimassa viisi (5) vuotta.
LOCATION:Valimo 21, Preston koulutustilat\, Valimotie 21\, 00380\,
 Helsinki
URL:http://ssl.eventilla.com/event/3zzv5
END:VEVENT
END:VCALENDAR
