BEGIN:VCALENDAR
METHOD:PUBLISH
VERSION:2.0
PRODID:-//Eventilla iCal Syndication//NONSGML Liana//EN
BEGIN:VEVENT
UID:4N2aN@eventilla.com
DTSTAMP:20260630T070000Z
DTSTART:20260630T070000Z
DTEND:20260630T110000Z
SUMMARY:Kokkauspäivä 30.6.2026
DESCRIPTION:Kokkauspäivä tiistaina 30.6. Maijamäen koulun kotitalousluokassa klo 10.00-14.00 yli 10-vuotiaille.\nTule mukaan hauskaan kokkauspäivään\, jossa opit tekemään helppoja ja terveellisiä välipaloja! Päivän aikana pilkotaan\, sekoitetaan ja maistellaan – samalla opitaan hyödyllisiä keittiötaitoja rennossa ja kannustavassa ilmapiirissä.\nSopii kaikille kokkauksesta innostuneille\, eikä aiempaa kokkauskokemusta tarvita. Tule mukaan kokkaamaan\, oppimaan ja nauttimaan hyvästä ruoasta!\nPäivä toteutuu\, mikäli vähintään 5 ilmoittautunutta. Hinta 10 €.
LOCATION:Maijamäen koulu\, Kristofferinkatu 1\, 21100\, Naantali\, Suomi
URL:http://ssl.eventilla.com/kokkauspaivakesa-26
END:VEVENT
END:VCALENDAR
