BEGIN:VCALENDAR
METHOD:PUBLISH
VERSION:2.0
PRODID:-//Eventilla iCal Syndication//NONSGML Liana//EN
BEGIN:VEVENT
UID:4N5oN@eventilla.com
DTSTAMP:20250531T160000Z
DTSTART:20250531T160000Z
DTEND:20250531T233000Z
SUMMARY:Karttakepin katkojaiset 2025
DESCRIPTION:     \n \nKarttakepin katkojaiset 2025\nOpetusalan vuoden odotetuinta päätöstapahtumaa Karttakepin Katkojaisia juhlitaan lauantaina 31.5.2025 Oulussa Radisson Blu -hotellilla. Kaikki alueemme opettajat ovat tervetulleita viettämään yhdessä alkavan kesän parasta iltaa! Illan järjestävät yhteistyössä OAJ Pohjois-Pohjanmaan alueyhdistys ja OAJ Oulun paikallisyhdistys.Tämän vuoden pääesiintyjäksi on saatu monilahjakkuus Pete Parkkonen\, joka takaa energisellä showlla ja hittibiiseillään mahtavat bileet. Suomalaisten rakastama Pete on julkaissut uransa aikana 4 menestyksekästä albumia\, joista hitit Kohta sataa\, Mitä mä teen ja Voimaa ja valoa ovat kaikille tuttuja. Ennen illan huikeaa pääaktia esiintyvät oululainen rap-artisti Olli PA ja Olli PA & Reggaerekka.\nFacebook-tapahtumasivuille\nAlkaa 31.5.2025 kello 19.00Päättyy 1.6.2025 kello 02.30\nEnnakkolippu illan karkeloihin kustantaa 37\,50 € sisältäen sähköisen järjestelmän toimitusmaksun. Maksamisen jälkeen puhelimeen tulee QR-koodillinen lippu Karttakepin katkojaisiin\, joka on kertakäyttöinen ja luetaan tapahtumailtana sisääntulon yhteydessä.\n \nMikäli et saa sähköpostiisi viestiä Eventilla-järjestelmästä ilmoittautumisesi jälkeen\, tarkista ettei se ole mennyt sähköpostissasi roskapostiin tai Tarpeettomat -kansioon. 
LOCATION:Radisson Blu Oulu\, Hallituskatu 1\, 90100\, Oulu
URL:http://ssl.eventilla.com/kk25
END:VEVENT
END:VCALENDAR
