BEGIN:VCALENDAR
METHOD:PUBLISH
VERSION:2.0
PRODID:-//Eventilla iCal Syndication//NONSGML Liana//EN
BEGIN:VEVENT
UID:4NABN@eventilla.com
DTSTAMP:20241122T063000Z
DTSTART:20241122T063000Z
DTEND:20241122T140000Z
SUMMARY:Digioppimisen kehityspäivä - Tulevaisuuden taitajat
DESCRIPTION:Tervetuloa Tieran järjestämään Digioppimisen kehityspäivään perjantaina 22.11.2024  \n \nTapahtuma kokoaa yhteen monipuolisesti kuntakentän opetustoimen päättäjiä\, asiantuntijoita\, ammattilaisia ja yrityksiä. Päivän teemana on Tulevaisuuden taitajat. \nKeynote-puhujina tapahtumassamme ovat futuristi ja tietokirjailija Perttu Pölönen sekä aivotutkija ja psykologian tohtori Katri Saarikivi.\nLisäksi ohjelmassa on luvassa mielenkiintoisia ja ajankohtaisia työpajoja. Työpajoissa aiheena on muun muassa tekoälyn hyödyntäminen opetuksessa\, monipuolinen ja luova oppiminen\, tulevaisuuden taidot sekä miten yhdistää digi ja oppikirjat. Työpajat ovat samat aamulla sekä iltapäivällä. Pääset tutustumaan työpajoihin "työpajat" välilehdessä. Voit varata itsellesi yhden kiinnostavan työpaja aamusta ja yhden illasta. Yhden työpajan kesto on 45 min.\nKoko tapahtuman aikana osallistujat pääsevät tutustumaan Tieran Verkkokaupan ja Edustoren yhteistyökumppaneiden näyttelyosastoihin.\nTapahtuma on maksuton. Tervetuloa oppimaan ja innostumaan! Ilmoittautumaan pääset alla.\nPäivän ohjelma\n\n\n\n08:30 \nAamukahvit tarjoaa HP. Tapahtumatori aukeaa.\n\n\n09:00-09:45 \n\nTyöpajat:\nTyöpaja 1: Google AI for schools and Google Vids. Mia Bergius & Frida Traenk Heerman\, GoogleTyöpaja 2: Mistä lisää aikaa opettamiseen ja vuorovaikutukseen? Vesa Äyräs\, MicrosoftTyöpaja 3: Moderni digipedagogiikka tulevaisuuden työntekijöiden mahdollistajana. Simon Koivumaa\, Atea/AppleTyöpaja 4: Muotoilun keinoin kohti vaikuttavampaa oppimista. Essi Sorsa\, OtavaTyöpaja 5: Digi ja oppikirja tukemassa parhaita oppimistuloksia\, Sanoma Pro\n\n\n\n09:55-10:00\nTervetuloa päivään!\n\n\n10:00-11:30\nKeynote 1: Tulevaisuuden lukujärjestysPerttu Pölönen\, futuristi ja tietokirjailija\n\n\n \nTapahtumatorilla tapahtuu\n\n\n13:00-14:30\nKeynote 2: Miten elää ihmisiksi tekoälyn maailmassa? Katri Saarikivi\, aivotutkija ja psykologian tohtori \n\n\n \nIltapäiväkahvit tarjoaa Samsung\n\n\n15:00-15:45\nTyöpajat(samat kuin aamulla)\n\n\n16:00\nTapahtuma päättyy\n\n\n\nTervetuloa innostumaan\, kehittämään ja verkostoitumaan!
LOCATION:Tammasaarenkatu 3\, HTC Pinta\, 00180\, Helsinki\, Suomi
URL:http://ssl.eventilla.com/dokp2024
END:VEVENT
END:VCALENDAR
