BEGIN:VCALENDAR
METHOD:PUBLISH
VERSION:2.0
PRODID:-//Eventilla iCal Syndication//NONSGML Liana//EN
BEGIN:VEVENT
UID:4NEGQ@eventilla.com
DTSTAMP:20260319T073000Z
DTSTART:20260319T073000Z
DTEND:20260319T133000Z
SUMMARY:Energiaa ja elinvoimaa BIOTUTO-hankkeen päätöstapahtuma
DESCRIPTION:Energiaa ja elinvoimaa BIOTUTO-hankkeen päätöstapahtuma 19.3.2026.\n \nTapahtuma on päättynyt. Tilaisuuden materiaalit löydät ohjelma -välilehdeltä.\nPäivä sisälsi mielenkiintoisia puheenvuoroja\, työpajan sekä verkostoitumista alan asiantuntijoiden kanssa. Työpajassa pohdittiin onko hiilineutraali ja energiaomavarainen maatila totta vai tarua.\nTapahtuman järjesti BIOTUTO-hanke (EU:n osarahoittama).\n \n\n \n 
LOCATION:Nitek\, Pajatie 5\, 85500\, Nivala\, Suomi
URL:http://tapahtuma.oamk.fi/event/4NEGQ
END:VEVENT
END:VCALENDAR
