BEGIN:VCALENDAR
METHOD:PUBLISH
VERSION:2.0
PRODID:-//Eventilla iCal Syndication//NONSGML Liana//EN
BEGIN:VEVENT
UID:4NJEB@eventilla.com
DTSTAMP:20251009T050000Z
DTSTART:20251009T050000Z
DTEND:20251009T150000Z
SUMMARY:Kryptosijoitukset ja niiden verotus 9.4.2025
DESCRIPTION:Kryptosijoitukset ja niiden verotus 9.4.2025\n\n\n\n\nVeronmaksajain Keskusliitto järjesti 9.4.2025 kaikille avoimen verkkoveroillan kryptosijoituksista ja niiden verotuksesta\n\nMitä virtuaalivaluutat ovat?\nVirtuaalivaluuttojen luovutusvoittojen ja -tappioiden verotuksesta\nMuut verotettavat transaktiot\nErilaiset kryptovaroihin perustuvat sijoitustuotteet ja niiden verotus\nTulojen ilmoittamisvelvollisuus\n\nVeroillan luennosta vastaavat verojuristi Miika Härkönen Veronmaksajista ja kryptoasiantuntija Anton Räsänen.\nVerkkoveroillan tallenne\nTallenne on katsottavissa Veronmaksajien verkkopalvelussa 9.10.2025 saakka. Tallenteen katsominen edellyttää kirjautumista verkkopalveluun.\nKatso tallenne tästä >>\nJos et vielä ole Veronmaksajien jäsen\, liity nyt! \nVeronmaksajien jäsenmaksulla saat muun muassa\n\nTaloustaito-lehden digipalveluineen\nVerojuristin neuvot puhelimitse (mpm/pvm) joka arkipäivä\nPääsyn Veronmaksajien verkkopalvelun jäsenalueelle\n\nLiity Veronmaksajien jäseneksi tästä!\n\n\n\n\n\n\n\n\nMiika Härkönen\n\n\n\n\n\nAnton Räsänen\n\n\n\n\n\n\n\n 
LOCATION:Tallenne
URL:http://ssl.eventilla.com/event/4NJEB
END:VEVENT
END:VCALENDAR
