BEGIN:VCALENDAR
METHOD:PUBLISH
VERSION:2.0
PRODID:-//Eventilla iCal Syndication//NONSGML Liana//EN
BEGIN:VEVENT
UID:4Nb0o@eventilla.com
DTSTAMP:20261002T060000Z
DTSTART:20261002T060000Z
DTEND:20261002T223000Z
SUMMARY:Maisema-arkkitehtuuripäivä 2026
DESCRIPTION:Lämpimästi tervetuloa Maisema-arkkitehtuuripäivän 2026 lippukauppaan!\n \nEnglish speaking guests\, please select English from the upper right corner.\n \nValitse alta lippu\, jonka haluat ostaa\, ja kappalemäärä. Sen jälkeen vieritä alaspäin ja paina sinisestä ilmoittaudu-napista\, niin pääset täyttämään omat tietosi. Ryhmän voi ilmoittaa kerralla.\nJos sinulla on erityishintaan tai kumppanilippuun oikeuttava koodi\, syötä sen lipun valinnan yhteydessä. Koodin antama alennus näkyy lopuksi kassalla\, kun olet ensin täyttänyt kaikki tietosi.\nTäyspaketti sisältää päiväseminaarin ja iltajuhlan. Täyspaketin hinnat ovat seuraavat:\n \nTäyspaketti Early Bird 31.5. asti 350 €\, sis. alv. \n\nEarly Bird on saman hintainen kaikille\n\n \nTäyspaketti viheralan opettajille ja MARK jäsenille\, jotka oikeutettuja erityiseen hinnanalennukseen 240 €\, sis alv.\, myynnissä 31.8.2026 asti\n\nTarkistathan täältä erityisen hinnanalennuksen perusteet.\n\n \nTäyspaketti 1.6.- 31.8. Normaalihinta 420 €\, sis alv.\n \nLate Bird 1.9.-16.9. 510 €\n\nLate Bird on saman hintainen kaikille\n\n \nLipunmyynti päättyy 16.9.\nLipun voi perua 31.8. asti ja saada hinnan kokonaan takaisin.\n1.9. alkaen lippua ei voi enää perua\, mutta sen voi itse myydä tai lahjoittaa eteenpäin. Uuden lipunhaltijan tulee sitoutua tehtyyn illallisvalintaan.\n \nPeruutukset tehdään meilitse osoitteeseen lippukauppa@puskapromotion.fi\nOtsikoithan peruutusviestin "MAP 2026 lipun peruutus".\n \n 
LOCATION:Espoo Dipoli\, Otakaari 24\, 02150\, Espoo\, Suomi
URL:http://ssl.eventilla.com/event/4Nb0o
END:VEVENT
END:VCALENDAR
