BEGIN:VCALENDAR
METHOD:PUBLISH
VERSION:2.0
PRODID:-//Eventilla iCal Syndication//NONSGML Liana//EN
BEGIN:VEVENT
UID:4NqX5@eventilla.com
DTSTAMP:20250122T063000Z
DTSTART:20250122T063000Z
DTEND:20250122T073000Z
SUMMARY:NIS2 – koskiko se meitä?
DESCRIPTION:Tervetuloa NIS2 – koskiko se meitä?  -webinaariin keskiviikkona 22.01. klo 8:30-9:30!\nKyberturvallisuusdirektiivin eli NIS2-direktiivin velvoitteet ovat tulossa osaksi kansallista lainsäädäntöä. Edelleen saattaa olla hiukan hämmentävää mitä tämä tarkoittaa käytännössä omalle organisaatiolle. Nyt on oiva mahdollisuus kuulla kumppanimme Insta Advance Oy:n esitys tästä ajankohtaisesta aiheesta!\nWebinaarissa käsitellään NIS2-direktiivin soveltamisen lähtökohtia kuntasektorilla ja hyvinvointialueilla\, tarkastellaan sen keskeisiä velvoitteita sekä esitetään konkreettisia askeleita\, joiden avulla organisaatiot voivat varmistaa velvoitteiden noudattamisen.\nTervetuloa mukaan!\n 
LOCATION:Teams
URL:http://ssl.eventilla.com/event/4NqX5
END:VEVENT
END:VCALENDAR
