BEGIN:VCALENDAR
METHOD:PUBLISH
VERSION:2.0
PRODID:-//Eventilla iCal Syndication//NONSGML Liana//EN
BEGIN:VEVENT
UID:4NwwB@eventilla.com
DTSTAMP:20250410T063000Z
DTSTART:20250410T063000Z
DTEND:20250410T094500Z
SUMMARY:Talousrikosoikeuden erityispiirteitä\, Osa II – erityisesti arvopaperimarkkinarikokset
DESCRIPTION:Talousrikosoikeuden sarja tarjoaa käytännönläheisen perehdytyksen talousrikosoikeuden erityisiin teemoihin. Osallistuja saa käsityksen talousrikosoikeuden ydinalueista\, kuten osallisuusopista\, tahallisuudesta ja arvopaperimarkkinarikoksista\, sekä päivitetyn tiedon korkeimman oikeuden tuoreimmista ennakkoratkaisuista. Koulutus tarjoaa käytännön työkaluja\, joita voi soveltaa asiakastapauksiin ja jotka auttavat pysymään ajan tasalla nopeasti kehittyvässä oikeuskentässä.\nOsa II Talousrikosoikeus – erityisesti arvopaperimarkkinarikokset 10.4.2025 klo 9.30–12.45\, myös etänä \nTässä osassa syvennytään arvopaperimarkkinarikoksiin mm. korkeimman oikeuden ennakkoratkaisuiden avulla. Osallistuja saa arvokasta tietoa\, jonka avulla hän voi navigoida monimutkaisia arvopaperimarkkinarikosten oikeudellisia kysymyksiä. Koulutus antaa myös käsityksen oikeussosiologisista näkökulmista\, jotka auttavat ymmärtämään rikosten taustoja ja vaikutuksia. Tämä osa varmistaa\, että osallistujat saavat ajankohtaiset ja konkreettiset työkalut oikeudellisten tapausten hoitamiseen.\nKouluttajana toimii Kai Kotiranta\, laamanni\, asianajaja\, dosentti\, OTT\, Kotiranta & Co Asianajotoimisto Oy.\nTalousrikosoikeuden erityispiirteitä\, Osa I - Yleinen osa on hankittavissa verkkokoulutuksena.\nHinta\n340 euroa \nKausikortilla kouluttaudut edullisesti koko vuoden. Tutustu kausikorttitarjontaamme verkkosivuillamme.\nKoulutuksen hintaan kuuluu opetus\, materiaalit ja aamupala (kahvi/tee\, sämpylä\, smoothie) koulutuspaikalla osallistuttaessa. Huomaathan\, että koulutuksemme ovat vain jäsenillemme sekä asianajotoimistojen ja Oikeuspalveluviraston henkilökunnalle.\nKouluttautumisvelvoite\n3 tuntia \nJärjestäjä\nSuomen Asianajajat\nIlmoittautuminen\nValitse haluamasi ilmoittautumisvaihtoehto alta lähiosallistumiseen viimeistään 8.4. ja etäosallistumiseen 9.4.2025. Täytäthän kaikki pyydetyt tiedot huolellisesti. Huomaathan\, että koulutukseen ilmoittautuneet saavat koulutuksen jälkiviestissä koulutuksen raakatallenteen\, jota voi katsoa kahden viikon ajan koulutuksen jälkeen. Mikäli sinulle tulee kiireellinen este\, voit katsoa tallenteen sinulle sopivana ajankohtana.\nPeruutusehdoista voit lukea ylhäältä välilehdeltä peruutusehdot ja muutokset.\nJäsentietojasi ei päivitetä ilmoittautuessa annettujen tietojen perusteella. Voit jäsenenä päivittää yhteystietosi suoraan Asiointipalvelu ASSIssa tai osoitteella jasenasiat@asianajajat.fi. Jos et ole jäsen ja ilmoittaudut ensimmäisen kerran tilaisuuteen\, lisätään tietosi Suomen Asianajajien asiakasrekisteriin.\nLisätietoja tietosuojasta 
LOCATION:Suomen Asianajajat, koulutustila\, Mikonkatu 25\, 00100\,
 Helsinki\, Finland
URL:http://ssl.eventilla.com/event/4NwwB
END:VEVENT
END:VCALENDAR
