BEGIN:VCALENDAR
METHOD:PUBLISH
VERSION:2.0
PRODID:-//Eventilla iCal Syndication//NONSGML Liana//EN
BEGIN:VEVENT
UID:4rzQg@eventilla.com
DTSTAMP:20261025T220000Z
DTSTART:20261025T220000Z
DTEND:20261025T220000Z
SUMMARY:Päivitä praktiikkatietosi: oftalmologia (kissa & koira)
DESCRIPTION:Tämän tapahtuman ilmoittautuminen alkaa myöhemmin.\nSeuraa tiedotusta koulutuksen sivulla.
LOCATION:
URL:http://ssl.eventilla.com/event/4rzQg
END:VEVENT
END:VCALENDAR
