BEGIN:VCALENDAR
METHOD:PUBLISH
VERSION:2.0
PRODID:-//Eventilla iCal Syndication//NONSGML Liana//EN
BEGIN:VEVENT
UID:55Gl6@eventilla.com
DTSTAMP:20221221T110000Z
DTSTART:20221221T110000Z
DTEND:20221221T123000Z
SUMMARY:Maankäyttösektorin kasvihuonekaasuinventaarion tulokset ja niiden vaikutus EU:n LULUCF-velvoitteen 2021–2025 saavuttamiseen
DESCRIPTION:Maa- ja metsätalousministeriö on antanut Luonnonvarakeskukselle (Luke) toimeksiannon selvittää\, miten uusimmat kasvihuonekaasuinventaarion tulokset mahdollisesti vaikuttavat Suomen metsien vertailutason saavuttamiseen kaudella 2021–2025. Osana tätä työtä Luke on lisäksi tutkinut syitä\, jotka ovat vaikuttaneet puuston kasvun alenemiseen. Ilmasto- ja energiapoliittinen ministerityöryhmä käsittelee selvitystä keskiviikkona 21.12.2022.\nTervetuloa selvityksen julkaisutilaisuuteen 21.12.2022 klo 13.00–14.30. Tilaisuus järjestetään kokoushuone Pajassa\, Mariankatu 9\, Helsinki. Tilaisuuteen voi osallistua myös etänä Teams-sovelluksen kautta. Tilaisuus on kaikille avoin.\nIlmoittaudu alla olevan linkin kautta 19.12.2022 klo 14 mennessä.\nLisätietoja maa- ja metsätalousministeriöstä\n– tilaisuuden sisältöä koskien johtava asiantuntija Lotta Heikkoselta\, p. +358 2951 62074\, etunimi.sukunimi@gov.fi.\n– ilmoittautumista koskien hallinnollinen avustaja Marja Lappalaiselta\, p. +358 2951 62351\, etunimi.sukunimi@gov.fi.\nMaa- ja metsätalousministeriö\, Maankäyttösektorin sisällyttäminen EU:n ilmastotavoitteisiin: https://mmm.fi/maankayttosektorin-ilmastosuunnitelma\nLisätietoa metsien vertailutason laskennasta: https://www.luke.fi/fi/ajankohtaista/teemat-ja-kampanjat/metsien-vertailutason-laskenta
LOCATION:Kokoushuone Paja, Mariankatu 9, ja Teams\, Mariankatu 9\, 00170\,
 Helsinki\, Suomi
URL:http://ssl.eventilla.com/event/55Gl6
END:VEVENT
END:VCALENDAR
