BEGIN:VCALENDAR
METHOD:PUBLISH
VERSION:2.0
PRODID:-//Eventilla iCal Syndication//NONSGML Liana//EN
BEGIN:VEVENT
UID:577v4@eventilla.com
DTSTAMP:20261007T053000Z
DTSTART:20261007T053000Z
DTEND:20261008T130000Z
SUMMARY:Infektiovaarallisten aineiden kuljetus
DESCRIPTION:Infektiovaarallisten aineiden kuljetus\nKurssi keskittyy infektiovaarallisen sekä muun biomateriaalin lähettämiseen ja kuljettamiseen liittyviin kysymyksiin. Kurssin päätteeksi järjestetään loppukoe\, jonka hyväksytty suorittaminen antaa Suomen lainsäädännön ja  IATA DGR -määräysten edellyttämän lähettäjän kelpoisuuden. Infektiovaarallisten aineiden lisäksi myös näytteiden pakkaamiselle ja kollimerkinnöille asetetaan vaatimuksia. Lisäksi osa lähetysten jäähdytysmateriaaleista kuuluu kuljetusmääräysten piiriin ja tilaisuudessa käsitellään myös niitä.
LOCATION:Skyline Airport Hotel\, Elannontie 9\, 01510\, Vantaa\, Suomi
URL:http://ssl.eventilla.com/event/577v4
END:VEVENT
END:VCALENDAR
