BEGIN:VCALENDAR
METHOD:PUBLISH
VERSION:2.0
PRODID:-//Eventilla iCal Syndication//NONSGML Liana//EN
BEGIN:VEVENT
UID:5d47w@eventilla.com
DTSTAMP:20251020T150000Z
DTSTART:20251020T150000Z
DTEND:20251020T160000Z
SUMMARY:Mikko "Peltsi" Peltola Naantalissa
DESCRIPTION:Mikko "Peltsi" Peltolan luento maanantaina 20.10.2025 klo 18.00 alkaen Naantalin lukion auditoriassa.\nMikko ”Peltsi” Peltola on juontaja ja toimittaja\, joka on innokas retkeilijä ja luonnossa liikkuja. Tule kuuntelemaan Mikon luentoa\, jonka aiheina ovat luonnossa liikkuminen sekä perheiden yhteiset liikkumismahdollisuudet.
LOCATION:Lukion auditorio\, Vadstenanpolku 4\, 21100\, Naantali\, Suomi
URL:http://ssl.eventilla.com/mikkopeltolanluento
END:VEVENT
END:VCALENDAR
