BEGIN:VCALENDAR
METHOD:PUBLISH
VERSION:2.0
PRODID:-//Eventilla iCal Syndication//NONSGML Liana//EN
BEGIN:VEVENT
UID:5dAPA@eventilla.com
DTSTAMP:20260610T090000Z
DTSTART:20260610T090000Z
DTEND:20260610T110000Z
SUMMARY:Hengenpelastuspäivä
DESCRIPTION:Hengenpelastuspäivä \nHengenpelastuspäivä lapsille ja nuorille keskiviikkona 10.6 klo 12.00–14.00.  Hengenpelastuspäivä\, jossa opetellaan vesiturvallisuutta\, pelastustaitoja ja toimimista vedessä hauskalla ja turvallisella tavalla. Kerho sopii lapsille\, jotka osaavat jo uida ja haluavat oppia lisää vedessä toimimisesta sekä toisten auttamisesta. Kerho järjestetään Aurinkosäätiön uima-altaan tiloissa. Päivän hinta 10 €.  \n \n 
LOCATION:Aurinkosäätiö\, Myllynkiventie 5\, 21100\, Naantali
URL:http://ssl.eventilla.com/event/5dAPA
END:VEVENT
END:VCALENDAR
