BEGIN:VCALENDAR
METHOD:PUBLISH
VERSION:2.0
PRODID:-//Eventilla iCal Syndication//NONSGML Liana//EN
BEGIN:VEVENT
UID:5dAa7@eventilla.com
DTSTAMP:20260422T153000Z
DTSTART:20260422T153000Z
DTEND:20260422T173000Z
SUMMARY:Järvenpään veroilta: Perintöverosuunnittelu
DESCRIPTION:Perintöverosuunnittelu\n\n\n\n\nVeronmaksajain Keskusliiton Keski-Uudenmaan paikallisyhdistys järjestää neuvontatilaisuuden \n \nHyvä perintöverosuunnittelu jamikä muuttui perintöverotuksessa 1.1.2026\nAiheesta alustaa verojuristi Tuomo Lindholm Veronmaksajista.\nTilaisuus alkaa kahvitarjoilulla klo 18. Luento alkaa klo 18.30.\nIlmoittautuminen\nIlmoittaudu veroiltaan etukäteen alle avautuvalla lomakkeella tai soittamalla Veronmaksajien jäsenpalveluun p. 03010 5511 (pvm/mpm).\nTilaisuus on maksuton. Osallistuminen ei edellytä jäsenyyttä. Mukaan mahtuu 130 kuulijaa.\n\n\n\n \n\n\n\n\n 
LOCATION:Seurakuntaopisto, Auditorio, Järvenpääntie 640, Järvenpää
URL:http://ssl.eventilla.com/event/5dAa7
END:VEVENT
END:VCALENDAR
