BEGIN:VCALENDAR
METHOD:PUBLISH
VERSION:2.0
PRODID:-//Eventilla iCal Syndication//NONSGML Liana//EN
BEGIN:VEVENT
UID:5deAL@eventilla.com
DTSTAMP:20250305T130000Z
DTSTART:20250305T130000Z
DTEND:20250305T140000Z
SUMMARY:AKY: Securing Your Innovation: The Essential IP Guide for Small Businesses
DESCRIPTION:Securing Your Innovation: The Essential IP Guide for Small Businesses \nIntellectual Property Rights refer to the legal protections granted to the creators\, inventors\, or owners of intellectual assets like inventions\, trademarks\, copyrights\, and designs\, giving them exclusive rights to use\, sell\, or license these creations. Intellectual property can make up a majority of a company’s value so understanding how to protect and utilize IPRs as part of your business is crucial.\n\nIn this webinar\, you will...\n\nlearn how protecting your innovation can give you a competitive edge\,\nunderstand how IP can help you increase revenue and attract investment\,\nexplore how IP rights can open doors to new markets and partnership\, and\nlearn about what do intellectual property rights have to do with AI.\n\nWhether you’re new to the concept of IP or need a refresher\, this webinar will provide you with the essential knowledge to take your business to the next level.\nWho can sign up and what is AKY?\nAs a member of an AKY member union (such as ASIA)\, you are welcome to participate in all AKY's events. AKY is the voice of Akava unions' members\, who are also business owners or have an entrepreneurial spirit. \nSign up for the webinar on the AKY site \nThis webinar is held by Iiris Adenius\, a legal expert at Ornamo\, specialized in utilizing intellectual property rights particularly within creative and innovative industries.\n
LOCATION:
URL:http://ssl.eventilla.com/event/5deAL
END:VEVENT
END:VCALENDAR
