BEGIN:VCALENDAR
METHOD:PUBLISH
VERSION:2.0
PRODID:-//Eventilla iCal Syndication//NONSGML Liana//EN
BEGIN:VEVENT
UID:5dl5E@eventilla.com
DTSTAMP:20260608T070000Z
DTSTART:20260608T070000Z
DTEND:20260611T170000Z
SUMMARY:Ahvenanmaan pyöräretki 2025
DESCRIPTION:Naantalin\, Maskun\, Nousiaisten ja Raision nuorisopalvelut järjestävät 8.-11.6.2026.Ahvenanmaan pyöräretken. Päivittäin pyöräillään n.30 km. Hinta sisältää matkat (bussikuljetuksen Kustaviin\, lauttamatkat saaristossa sekä Viking Linen paluumatkan)\, yöpymiset mökeissä\, kaikki ruokailut\, nähtävyydet  ja ohjauksen. Matkalla lisäksi ohjelmassa minigolfia\, pingistä\, tennistä ja sulkapalloa urheilukeskuksessa\, uimista ja saunomista\, hyviä kavereita neljän kunnan alueelta ja paljon muuta!Retki on suunnattu 2009- 2014 syntyneille naantalilaisille\, maskulaisille\, nousiaislaisille ja raisiolaisille nuorille. Retken hinta 250€. Varusteluettelo ja tarkempi ohjelma lähetetään retkikirjeessä ennen retkeä. Ilmoittautuminen on sitova ja maksetaan heti ilmoittautumisen yhteydessä. 
LOCATION:Ahvenamaa
URL:http://ssl.eventilla.com/event/5dl5E
END:VEVENT
END:VCALENDAR
