BEGIN:VCALENDAR
METHOD:PUBLISH
VERSION:2.0
PRODID:-//Eventilla iCal Syndication//NONSGML Liana//EN
BEGIN:VEVENT
UID:6ObGp@eventilla.com
DTSTAMP:20260612T050000Z
DTSTART:20260612T050000Z
DTEND:20260612T120000Z
SUMMARY:Ensiapu- ja alkusammutuskorttikoulutus
DESCRIPTION:Koulutus yhdistää alkusammutuskoulutuksen (AS1) sekä neljän tunnin ensiapukoulutuksen. Alkusammutusosion tavoitteena on laajentaa alkusammuttamisen osaaminen kansalaistaidoksi. Ensiapuosion tavoitteena on antaa valmiudet henkeäpelastavaan ensiapuun ja ensiapuun sairauskohtaustilanteissa.\nKoulutus pidetään luokkaopetuksena\, jota täydennetään keskusteluilla\, ryhmätöillä ja käytännön harjoituksilla.\nKoulutuksesta on mahdollista saada kuljettajan jatkokoulutuksen ammattipätevyysmerkintä (vain 1 merkintä/vrk).\nEnsiapukortti 4h on voimassa 3 vuotta. Alkusammutuskortti on voimassa 5 vuotta. Koulutuksesta myönnettävä kuljettajan ammattipätevyysmerkintä on voimassa 5 vuotta.
LOCATION:Presto Paloturvallisuus\, Teerisuonkuja 7\, 00700\, Helsinki
URL:http://ssl.eventilla.com/event/6ObGp
END:VEVENT
END:VCALENDAR
