BEGIN:VCALENDAR
METHOD:PUBLISH
VERSION:2.0
PRODID:-//Eventilla iCal Syndication//NONSGML Liana//EN
BEGIN:VEVENT
UID:6P7y7@eventilla.com
DTSTAMP:20230603T150000Z
DTSTART:20230603T150000Z
DTEND:20230604T000000Z
SUMMARY:Karttakepin katkojaiset 2023
DESCRIPTION:Karttakepin katkojaiset 2023\nOpetusalan vuoden odotetuinta päätöstapahtumaa Karttakepin Katkojaisia juhlitaan lauantaina 3.6.2023 Oulussa Radisson Blu hotellilla. Kaikki alueemme opettajat ovat tervetulleita yhdessä viettämään alkavan kesän iloisinta iltaa\, terveisin OAJ Pohjois-Pohjanmaan alueyhdistys ja OAJ Oulun paikallisyhdistys.\nTämän vuoden valovoimaiseksi pääesiintyjäksi on saatu rap-legenda Elastinen\, joka takaa energisellä ja positiivisella otteellaan mahtavat bileet. Elastisen biisikattaus on täynnä hittejä\, joten varmasti huikea keikka tulossa! Ennen Elan huipennusta esiintyvät alueemme opettajataustaiset bändit Lauri Peisterä yhtyeineen ja Punainen Kupla.\nFacebook -tapahtumasivuille\n\nEnnakkolippu illan karkeloihin kustantaa 32\,5 € sisältäen sähköisen järjestelmän toimitusmaksun. Maksamisen jälkeen ilmoittautumisen yhteydessä antamaasi sähköpostiin tulee QR-koodillinen lippu Karttakepin katkojaisiin\, joka on kertakäyttöinen ja luetaan tapahtumailtana sisääntulon yhteydessä.\nJärjestäjä:\nTapahtuman järjestävät OAJ Oulun paikallisyhdistys ja OAJ Pohjois-Pohjanmaan alueyhdistys yhteistyössä Lekolarin\, Seppälän koulukuvan\, vakuutusyhtiö Turvan ja Radisson Blu Hotellin kanssa\, tervetuloa!\nLisätietoa mika.haapakoski@gmail.com / OAJ Pohjois-Pohjanmaan toimistosihteeri Päivi Pyky 050-4686 939.\nMikäli et saa sähköpostiisi viestiä Eventilla-järjestelmästä ilmoittautumisesi jälkeen\, tarkista ettei se ole mennyt sähköpostissasi roskapostiin tai Tarpeettomat -kansioon. 
LOCATION:Radisson Blu Oulu\, Hallituskatu 1\, 90100\, Oulu
URL:http://ssl.eventilla.com/kk23
END:VEVENT
END:VCALENDAR
