BEGIN:VCALENDAR
METHOD:PUBLISH
VERSION:2.0
PRODID:-//Eventilla iCal Syndication//NONSGML Liana//EN
BEGIN:VEVENT
UID:6PNEE@eventilla.com
DTSTAMP:20230325T100000Z
DTSTART:20230325T100000Z
DTEND:20261231T215900Z
SUMMARY:Pelokkaat\, arat ja epävarmat koirat -luentotallenne
DESCRIPTION:Pelokkaat\, arat ja epävarmat koirat -luentotallenne\nKesto noin 2h\, hinta 22€\n \nPelokas koira voi olla passiivinen\, ahdistuva ja pakeneva\, mutta myös hyökkäävä ja rähisevä. Arkuus ja epävarmuus ovat usein synnynnäisiä piirteitä\, mutta koulutuksella ja erilaisilla tukitoimilla pelokkaan koiran itsevarmuutta voi lisätä. Jatkuva pelkääminen on hyvinvointiongelma\, joka voi vaikuttaa heikentävästi koiran elämään ja terveyteen. Tuttujen rutiinien avulla koiran on helpompi selvitä hankalista tilanteista. Luennolla käydään läpi erilaisia menetelmiä ja harjoituksia kotona ja lenkeillä sovellettaviksi.\n \nLuennoitsijana toimii koirakoulu Masseterin perustaja\, erikoisammattitutkinnon suorittanut eläintenkouluttaja Liisa Tikka.\nLuentotallenne on ostajan käytössä kuukauden ajan.
LOCATION:Koirakoulu Masseter
URL:http://ssl.eventilla.com/pelkoluento
END:VEVENT
END:VCALENDAR
