BEGIN:VCALENDAR
METHOD:PUBLISH
VERSION:2.0
PRODID:-//Eventilla iCal Syndication//NONSGML Liana//EN
BEGIN:VEVENT
UID:6QQ9p@eventilla.com
DTSTAMP:20260505T143000Z
DTSTART:20260505T143000Z
DTEND:20260505T160000Z
SUMMARY:Suoja26-webinaari: Suojautumistilanteen psykososiaaliset vaikutukset
DESCRIPTION:Tammikuussa järjestetyssä Suoja26-harjoituksessa vapaaehtoiset asukkaat ottivat Hekan vuokratalon väestönsuojan käyttöönsä 72 tunnin aikana ja suojautuivat tilaan jopa vuorokaudeksi. Harjoitus tarjosi arvokasta tietoa väestönsuojien käyttöönotosta ja suojautujien kokemuksista suojautumistilanteessa. \nAsuinkohteen erillisessä 50 neliömetrin S1-luokan väestönsuojassa on paikkoja 67 asukkaalle ja tilaa suojautujaa kohden on 0\,75 neliömetriä. Suoja on hyvin tyypillinen asuinrakennuksen väestönsuoja. Harjoitukseen osallistui noin 40 asukasta. \nOsallistujat toivat mukanaan tarvitsemansa välineet\, kuten ruokaa\, juomaa ja henkilökohtaiset tarvikkeensa. Harjoitus oli suojautujille arvokas mahdollisuus testata varautumistaan ja resilienssiään. Suojautuminen on myös sosiaalinen\, yhteistyökykyä vaativa tilanne\, jota suojautujat pääsivät harjoittelemaan.\n24 tuntia kestäneen suojautumisen aikana osallistujat joutuivat reagoimaan erilaisiin tilanneilmoituksiin\, kuten suunniteltuihin sähkökatkoihin\, jotka keskeyttivät tilan ilmavaihdon. Suojautujat ylläpitivät ilmanvaihtoa sähkökatkojen aikana ilmavaihtokoneen kampea pyörittämällä. Yön yli suojautuminen oli keskeinen osa harjoitusta\, sillä sodanaikainen suojautuminen painottuisi yöaikaan.\nHarjoituksesta toteutettiin myös AMK-opinnäytetyö käyttäytymisestä suojautumistilanteessa ja suojautumisen psykososiaalisista vaikutuksista osallistujiin. Opinnäytetyön tekijät Tony Mattsson ja Joni Rainasto esittelevät webinaarissa havaintojaan ja opinnäytetyön tuloksia.
LOCATION:Teams
URL:http://ssl.eventilla.com/event/6QQ9p
END:VEVENT
END:VCALENDAR
