BEGIN:VCALENDAR
METHOD:PUBLISH
VERSION:2.0
PRODID:-//Eventilla iCal Syndication//NONSGML Liana//EN
BEGIN:VEVENT
UID:7e6Xq@eventilla.com
DTSTAMP:20231025T140000Z
DTSTART:20231025T140000Z
DTEND:20231025T170000Z
SUMMARY:Teollisuus 2023 vol 2
DESCRIPTION:\nEtsitkö uusia asiakkaita tai yhteistyökumppaneita? Haluaisitko löytää alihankkijan tai raaka-aineita lähialueelta?\nTervetuloa verkostoitumaan teollisuusyritysten kesken!\nTeollisuus 2023 -tapahtumassa tapaat Naantalissa ja lähialueilla toimivien yritysten edustajia.\nKuulet ajankohtaiset puheenvuorot seuraavilta toimijoilta\nSarjayhdistelijämalli yritysten kasvun tukena ja pitkäaikaisena omistajanaJesse Petäjä\, SVP\, Head of M&A\, Boreo OyjRahoitusratkaisut yrityksilleMaija Koivunen\, yritysasiakasliiketoiminnan johtaja\, Oma SäästöpankkiBusiness Finlandin ja Ely-keskuksen yritystuetLeevi Törmäkangas\, kasvu- ja kansainvälistymiskoordinaattori\, Team Finland\nWTC Turku ja verkostot yrityksen kansainvälistymisen kumppaninaHeidi Saaristo\, erityisasiantuntija\, WTC Turku\nTILAISUUDEN OHJELMAklo 17: 4 x 15 min tietoiskut: rahoitus\, yritystuet\, kansainvälistyminenklo 18: Pizzabuffet ja vapaata verkostoitumistaklo 19.30: Tilaisuus päättyy\nTilaisuus on osallistujille maksuton.\nOhjelma päivittyy.
LOCATION:Naantalin Kylpylä\, Matkailijantie 2\, 21100\, Naantali\, Suomi
URL:http://ssl.eventilla.com/teollisuus2023
END:VEVENT
END:VCALENDAR
