BEGIN:VCALENDAR
METHOD:PUBLISH
VERSION:2.0
PRODID:-//Eventilla iCal Syndication//NONSGML Liana//EN
BEGIN:VEVENT
UID:81EKq@eventilla.com
DTSTAMP:20260922T053000Z
DTSTART:20260922T053000Z
DTEND:20260924T130000Z
SUMMARY:Turvallisuusneuvonantajakoulutus (VAK/ADR)
DESCRIPTION:Turvallisuusneuvonantajakoulutus (VAK/ADR)\nLainsäädäntö edellyttää\, että mm. vaarallisia aineita lähettävät\, lastaavat ja kuljettavat toiminnanharjoittajat nimeävät turvallisuusneuvonantajan koordinoimaan toimintaa. Turvallisuusneuvonantajakoulutus valmentaa liikenne- ja viestintäviraston (Traficom) hallinnoimaan neuvonantajatutkintoon\, jonka voi suorittaa Ajovarma Oy:n toimipaikoissa.\nKurssilla käsitellään tutkintovaatimusten eri osa-alueet sekä tehdään runsaasti harjoitustehtäviä. Koulutus soveltuu myös muille\, vaarallisten aineiden maakuljetuksista laajaa tietoa tarvitseville.\nILMOITTAUTUMINEN TNA-TUTKINTOON\nKun olet ilmoittautunut kurssille\, niin hoidathan myös ilmoittautumisen tutkintoon: https://www.a-katsastus.fi/ajanvaraus-ja-asiakaspalvelu/varaa-aika-ajovarmaan/  Huomaathan\, että tutkintoon voi ilmoittautua ainoastaan Ajovarman puhelinpalvelun kautta numerossa 029 534 5115.\n \n 
LOCATION:Scandic Oulu City\, Saaristonkatu 4\, 90100\, Oulu\, Suomi
URL:http://ssl.eventilla.com/event/81EKq
END:VEVENT
END:VCALENDAR
