BEGIN:VCALENDAR
METHOD:PUBLISH
VERSION:2.0
PRODID:-//Eventilla iCal Syndication//NONSGML Liana//EN
BEGIN:VEVENT
UID:81Egk@eventilla.com
DTSTAMP:20260915T090000Z
DTSTART:20260915T090000Z
DTEND:20260915T130000Z
SUMMARY:Lasten mielenterveys ja haastavien ohjaustilanteiden hoito
LOCATION:STEP-koulutus\, Järvenpääntie 640\, 04400\, Järvenpää\,
 Suomi
URL:http://ssl.eventilla.com/event/81Egk
END:VEVENT
END:VCALENDAR
