BEGIN:VCALENDAR
METHOD:PUBLISH
VERSION:2.0
PRODID:-//Eventilla iCal Syndication//NONSGML Liana//EN
BEGIN:VEVENT
UID:8E2aq@eventilla.com
DTSTAMP:20260609T053000Z
DTSTART:20260609T053000Z
DTEND:20260610T130000Z
SUMMARY:Vaarallisten aineiden maantiekuljetukset (VAK/ADR)
DESCRIPTION:Vaarallisten aineiden maantiekuljetukset (VAK/ADR)\nVaarallisten aineiden maantiekuljetukset -kurssi on kahden päivän tiivis kokonaispaketti perustietoa tarvitseville. Kurssilla käsitellään laajasti maantiekuljetuksiin liittyviä asioita kuten:\n\nvaarallisten aineiden luokitusjärjestelmä\npakkaaminen ja pakkausmerkinnät\nasiakirjavaatimukset\nkuormaaminen ja tavaran käsittely\nvapaarajat ja muut vapautukset\neri kuljetustavat\nkuljetusyksiköiden merkinnät\nvaruste- ja katsastusvaatimukset\n\nKurssilla opetellaan itsenäistä tiedon hakua ja tehdään runsaasti harjoitustehtäviä\n \n 
LOCATION:Skyline Airport Hotel\, Elannontie 9\, 01510\, Vantaa\, Suomi
URL:http://ssl.eventilla.com/event/8E2aq
END:VEVENT
END:VCALENDAR
