BEGIN:VCALENDAR
METHOD:PUBLISH
VERSION:2.0
PRODID:-//Eventilla iCal Syndication//NONSGML Liana//EN
BEGIN:VEVENT
UID:8EB89@eventilla.com
DTSTAMP:20250608T210000Z
DTSTART:20250608T210000Z
DTEND:20250612T210000Z
SUMMARY:Oppilasviikko vol 1
DESCRIPTION:Oppilasviikko 1\nTervetuloa kauden ensimmäiselle oppilasviikolle!!\nOppilasviikolla kerhon rokkitähtinä toimii oppilaat ja kouluttajat. Oppilaviikolla järjestetään myös erilaisia koulutuksia\, luentoja ja tietenkin leffailta. Tarjolla on mahtavia palkintoja ansioituneemmille osallistujille! Kaudella 2025 oppilasviikolla ei ole erillistä osallistumismaksua\, mutta etukäteen ilmoittautuminen on tärkeää\, että osataan houkutella sopiva määrä kouluttajia paikalle.\nTapahtuman tarkemmat päiväkohtaiset aikataulut selviävät myöhemmin\, tiedotuskanavana toimii oppilaiden whatsapp ryhmä.\nTapahtumaan osallistuminen edellyttää Skydive Finland ry:n jäsenyyttä.\n 
LOCATION:Skydive Finland\, Lentoportintie 85\, 45410\, Utti\, Suomi
URL:http://ssl.eventilla.com/event/8EB89
END:VEVENT
END:VCALENDAR
