BEGIN:VCALENDAR
METHOD:PUBLISH
VERSION:2.0
PRODID:-//Eventilla iCal Syndication//NONSGML Liana//EN
BEGIN:VEVENT
UID:8EzYk@eventilla.com
DTSTAMP:20260609T091500Z
DTSTART:20260609T091500Z
DTEND:20260609T130000Z
SUMMARY:Alamieskoulutus (taakankiinnittäjä ja merkinantaja)
DESCRIPTION:Alamieskoulutuksen tavoite\nNostotyöt ovat korkean riskin töitä ja alamiehenä työskentely on yksi työmaan tärkeimmistä tehtävistä. Alamieskoulutuksen tavoitteena on mahdollistaa riittävä osaaminen\, jotta nostureilla tehtävät nostot ovat turvallisia.  Koulutuksen tavoitteet ovat seuraavat:\n\nAntaa osallistujalle perustiedot ja taidot turvallisesta alamies työskentelystä.\nKäsimerkeillä ja radiopuhelimella kommunikoimisen perustaidot.\nNostoapuvälineiden kunnon tarkkailu ja oikeaoppinen taakansidonta.\nTodentaa työntekijän osaaminen ennen alamies työluvan myöntämistä.\n\nAlamieskoulutuksen kohderyhmä\nAlamieskoulutusta suositellaan kaikille nostotyöskentelyyn osallistuville henkilöille. Koulutus on kohdenettu erityisesti taakankiinnittäjille\, -sitojalle sekä merkinantajille.
LOCATION:Cramo Vantaa\, Åbyntie 6\, 01730\, Vantaa
URL:http://ssl.eventilla.com/event/8EzYk
END:VEVENT
END:VCALENDAR
