BEGIN:VCALENDAR
METHOD:PUBLISH
VERSION:2.0
PRODID:-//Eventilla iCal Syndication//NONSGML Liana//EN
BEGIN:VEVENT
UID:8aeV9@eventilla.com
DTSTAMP:20240313T070000Z
DTSTART:20240313T070000Z
DTEND:20240313T141500Z
SUMMARY:Vero2024
DESCRIPTION:Veronmaksajien vuoden pää­tapahtuma\, Vero2024 järjes­tetään keskiviikkona 13.3. Pikku-Finlandiassa Helsingissä. Voit osallistua tapahtumaan joko paikan päällä tai verkossa. \nIlmoittaudu lähitilaisuuteen Pikku-Finlandiaan tai verkkoseminaariin!\nTapahtumatilaan mahtuu rajallinen\, mutta reilu määrä yleisöä - ilmoittaudu siis ajoissa.\nIlmoittaudu viimeistään maanantaina 11.3. klo 20 mennessä
LOCATION:Pikku-Finlandia ja verkkoseminaari\, Karamzininranta 4\, Helsinki
 ja verkkoseminaari\, FI
URL:http://ssl.eventilla.com/event/8aeV9
END:VEVENT
END:VCALENDAR
