BEGIN:VCALENDAR
METHOD:PUBLISH
VERSION:2.0
PRODID:-//Eventilla iCal Syndication//NONSGML Liana//EN
BEGIN:VEVENT
UID:9qKda@eventilla.com
DTSTAMP:20260925T163000Z
DTSTART:20260925T163000Z
DTEND:20260925T203000Z
SUMMARY:Petzl Nuuksio Night Trail 2026
DESCRIPTION:Petzl Nuuksio Night Trail 2026 juostaan 25.9.2026!\nIlmoittautuminen on nyt auki!\nLue lisää tapahtuman nettisivuilta.\nMaksutapoina on yleisimmät suomalaiset verkkopankit ja luottokortit sekä liikuntaedut.\nMikäli valitset maksutavaksi liikuntaedut\, katsothan maksuohjeet täältä.\nLiikuntaedut ovat henkilökohtaisia\, joten niillä voit maksaa vain oman ilmoittautumisesi.
LOCATION:Luukin ulkoilumaja\, Luukintie 33\, 02970\, Espoo\, Finland
URL:http://ssl.eventilla.com/petzl-nuuksio-night-trail-2026
END:VEVENT
END:VCALENDAR
