BEGIN:VCALENDAR
METHOD:PUBLISH
VERSION:2.0
PRODID:-//Eventilla iCal Syndication//NONSGML Liana//EN
BEGIN:VEVENT
UID:9qdVa@eventilla.com
DTSTAMP:20251030T110000Z
DTSTART:20251030T110000Z
DTEND:20251030T123000Z
SUMMARY:Sisäilmawebinaari terveydenhuollon ammattilaisille
DESCRIPTION:Sisäilmawebinaari terveydenhuollon ammattilaisille\nAika: 30.10.2025 klo 13:00 - 14:30\nKuvaus : Maksuton webinaari on suunnattu terveydenhuollon ammattilaisille. Webinaarissa käydään läpi\, mitä ”Sisäilmaan liittyvän oireilun ja sairastumisen hoitosuositus” tuo käytäntöön. \nSisällössä painotetaan\, mitä terveydenhuollon ammattilaisen tulee ottaa huomioon\, kun potilaan oireilun syyksi epäillään sisäilmaa.\nTule kuuntelemaan\, mitä juuri sinun olisi työssäsi hyvä tietää aihepiiristä.\nKohderyhmä : Perusterveydenhuollon\, erikoissairaanhoidon ja työterveyshuollon lääkärit\, hoitajat ja muut asiantuntijat sekä kaikki asiasta kiinnostuneet terveydenhuollon ammattilaiset.   \nOhjelma:\nPuheenjohtaja Kati Huttunen\, ympäristöterveyden ja -toksikologian dosentti / THL\n13:00-13:40 Sisäympäristön haittatekijät ja sisäilmatilanteiden selvittäminen\n\nKati Huttunen\, ympäristöterveyden ja -toksikologian dosentti / THL\n\n13:40-13:45 Työkalut terveydenhuollon ammattilaisten työn tueksi\n\nHanna Lahti-Renkola\, hankevastaava / Filha ry\n\n13:45-14:15 Sisäilmaoireiden selvittely ja hoito terveydenhuollossa\n\nMiia Aro\, Asiantuntijaylilääkäri\, LT\, erikoislääkäri\, keuhkosairaudet ja allergologia / Filha ry  \n\n14:15-14:30 Kysymykset ja yhteenvetokeskustelu\n \nWebinaarin linkki lähetetään 29.10.2025 ilmoittamaasi sähköpostiosoitteeseen.\nWebinaarin tallenne on kaikkien ilmoittautuneiden katsottavissa 2 viikon ajan. Linkki tallenteeseen toimitetaan sähköpostitse.\nWebinaarin toteuttaa keuhkoterveysjärjestö Filha ry osana Kansallista sisäilma ja terveys -ohjelmaa (2018-2028)\, jonka tavoitteena on edistää terveyttä ja hyvinvointia vähentämällä sisäympäristöön liittyviä haittoja Suomessa. Ohjelmaa koordinoi Terveyden ja hyvinvoinnin laitos\, ja työhön osallistuvat aktiivisesti Työterveyslaitos\, Filha ry\, Hengitysliitto\, Allergia-\, Iho- ja Astmaliitto sekä Sisäilmayhdistys ry.\nTervetuloa!
LOCATION:Webinaari
URL:http://ssl.eventilla.com/event/9qdVa
END:VEVENT
END:VCALENDAR
