BEGIN:VCALENDAR
METHOD:PUBLISH
VERSION:2.0
PRODID:-//Eventilla iCal Syndication//NONSGML Liana//EN
BEGIN:VEVENT
UID:9ql6z@eventilla.com
DTSTAMP:20241203T130000Z
DTSTART:20241203T130000Z
DTEND:20241203T140000Z
SUMMARY:Winter Camp for Children: Make with Me
DESCRIPTION:We invite you to join us in craft making and art creation in a fun and enjoyable setting. This event is part of the Winter Camp for Children that is hosted by the Library.\nDate: 3 December 2024\nTime: 4:00 - 5:00 PM\nLanguage: Arabic\nTarget Audience: Children aged 6 - 11 years old\nSeats are limited\, please click the button below to register.\n 
LOCATION:Children’s library\, Qatar National Library\, Doha\, Qatar
URL:http://events.qnl.qa/event/9ql6z
END:VEVENT
END:VCALENDAR
