BEGIN:VCALENDAR
METHOD:PUBLISH
VERSION:2.0
PRODID:-//Eventilla iCal Syndication//NONSGML Liana//EN
BEGIN:VEVENT
UID:AJgqB@eventilla.com
DTSTAMP:20260409T051500Z
DTSTART:20260409T051500Z
DTEND:20260409T060000Z
SUMMARY:Webinaari - Kansallinen ruokastrategia 2040
DESCRIPTION:Missä mennään Kansallisen ruokastrategian toimeenpanosuunnitelman valmistelussa? Tervetuloa kuulemaan keväällä järjestetyistä työpajoista ja strategiatyön etenemisestä\n9.4. klo 8.15-9.00 \nKansallinen ruokastrategia julkaistiin joulukuussa. Strategian toimeenpanosuunnitelman sisältöä on työstetty laajasti eri sidosryhmien kanssa kevään aikana työpajoissa sekä verkossa. Toimeenpanoa suunnitellessa on pohdittu muutospolkuja ja konkreettisia keinoja\, joilla olisi mahdollista päästä strategian tavoitteisiin sekä lyhyellä että pitkällä aikavälillä. \nKaikille avoin tilaisuus on suunnattu erityisesti työpajoihin ja verkkotyöskentelyyn osallistuneille. Tilaisuus järjestetään etäyhteyksin Teams -webinaarina.  \nMikäli jokin askarruttaa\, kuulemme siitä mielellämme. Voit jättää tilaisuuden järjestäjille terveisiä ilmoittautumisen yhteydessä. \n 
LOCATION:Teams
URL:http://ssl.eventilla.com/event/AJgqB
END:VEVENT
END:VCALENDAR
