BEGIN:VCALENDAR
METHOD:PUBLISH
VERSION:2.0
PRODID:-//Eventilla iCal Syndication//NONSGML Liana//EN
BEGIN:VEVENT
UID:AJgwb@eventilla.com
DTSTAMP:20260923T060000Z
DTSTART:20260923T060000Z
DTEND:20260923T190000Z
SUMMARY:Family Office Day 2026
DESCRIPTION:Suuren suosion saavuttanut Family Office Day -tapahtuma järjestetään jälleen!\nFamily Office Day tarkastelee\, miten suomalaiset family officet rakentavat kestävää tulevaisuutta perheyrittäjyyden pohjalta. Tapahtumassa syvennytään family officen rooliin omistajuuden moottorina ja pitkäjänteisenä tukena korostaen pääoman\, jatkuvuuden ja vahvan arvopohjan merkitystä.\nKeskusteluissa nousevat esiin myös suomalaisen family officen  erityispiirteet: ketteryys ja vaikuttavuus sekä yhteistyön mahdollisuudet esimerkiksi multi family office -mallien kautta. Päivä tarjoaa näkökulmia siihen\, miksi family office -toiminta ja sijoittaminen osana perheyrityksen jatkumoa on ajankohtaista ja merkityksellistä.\nJuontajana toimii aikaisemmista Family Office Day -tapahtumista tuttu Sami Sykkö!\nIlmoittautuminen on nyt auki!
LOCATION:Miltton House\, Sörnäisten rantatie 15\, 00530\, Helsinki
URL:http://tapahtumat.perheyritys.fi/event/AJgwb
END:VEVENT
END:VCALENDAR
