BEGIN:VCALENDAR
METHOD:PUBLISH
VERSION:2.0
PRODID:-//Eventilla iCal Syndication//NONSGML Liana//EN
BEGIN:VEVENT
UID:AX3Vg@eventilla.com
DTSTAMP:20250924T150000Z
DTSTART:20250924T150000Z
DTEND:20250924T160000Z
SUMMARY:Ihmissuhteet – Huolehdi verkostostasi
DESCRIPTION:Ihmissuhteet – Huolehdi verkostostasi\nKeneltä saat voimaa\, kun sitä eniten tarvitset? Tässä webinaarissa opimme rakentamaan ja vahvistamaan merkityksellisiä ihmissuhteita niin työssä kuin vapaa-ajalla. Löydämme luontevia tapoja syventää olemassa olevia yhteyksiä ja luoda uusia.\nSaat käytännön vinkkejä\, miten ylläpitää tärkeitä ihmissuhteita kiireisen arjen keskellä. Opit rakentamaan ympärillesi verkoston\, joka tukee ja kannustaa sinua eteenpäin. Tämä webinaari auttaa sinua luomaan yhteyksiä\, jotka kantavat läpi elämän.\nWebinaari kuuluu Hyvinvointihakkerit -sarjaan\, joka kutsuu sinut löytämään juuri sinulle sopivat tavat voida paremmin\, jaksaa enemmän ja nauttia elämästä täysillä.\n\nIlmoittaudu Urapalvelut-sivuston kautta\nWebinaarin puhuja: Jaana Hautala\n\nKokenut ihmismielen asiantuntija ja Oivaltamaan yrittäjä\, joka on 15 vuoden aikana valmentanut sadoissa organisaatioissa inhimillistä kilpailukykyä\nTietokirjailija ja digitaalisen hyvinvoinnin edelläkävijä\, Jaana on Kuullas Oy:n valmennustalossa sijoittaja ja osaomistaja 2024\nSertifioitu NLP kouluttaja\, jonka erityisosaamista ovat mielentaidot\, henkinen suorituskyky ja viisas vuorovaikutus\n15 vuoden johtamiskokemus ja yli kymmenen liikeidean käynnistäminen tuovat vahvan käytännön näkökulman valmennuksiin\n
LOCATION:webinaari
URL:http://ssl.eventilla.com/event/AX3Vg
END:VEVENT
END:VCALENDAR
